BEGIN:VCALENDAR
VERSION:2.0
PRODID:-//Sharon Fellowship Church - ECPv6.7.0//NONSGML v1.0//EN
CALSCALE:GREGORIAN
METHOD:PUBLISH
X-WR-CALNAME:Sharon Fellowship Church
X-ORIGINAL-URL:https://sharonchurchcolchester.com
X-WR-CALDESC:Events for Sharon Fellowship Church
REFRESH-INTERVAL;VALUE=DURATION:PT1H
X-Robots-Tag:noindex
X-PUBLISHED-TTL:PT1H
BEGIN:VTIMEZONE
TZID:UTC
BEGIN:STANDARD
TZOFFSETFROM:+0000
TZOFFSETTO:+0000
TZNAME:UTC
DTSTART:20260101T000000
END:STANDARD
END:VTIMEZONE
BEGIN:VEVENT
DTSTART;TZID=UTC:20260414T200000
DTEND;TZID=UTC:20261229T210000
DTSTAMP:20260421T103348
CREATED:20260407T215002Z
LAST-MODIFIED:20260407T215446Z
UID:42163-1776196800-1798578000@sharonchurchcolchester.com
SUMMARY:ONLINE BIBLE STUDY WITH PR. MORIES SAMSON
DESCRIPTION:Time : EVERY TUESDAY\,  8:00 PM – 9:00 PM (UK) \nZOOM ID : 82924281179 \n 
URL:https://sharonchurchcolchester.com/event/online-bible-study-with-pr-mories-samson/
LOCATION:Church\, 350 5th Ave\, New York\, NY\, 10118\, United States
CATEGORIES:Community Service,Family Prayers
ATTACH;FMTTYPE=image/jpeg:https://sharonchurchcolchester.com/wp-content/uploads/2026/04/WhatsApp-Image-2026-04-07-at-22.45.42.jpeg
END:VEVENT
BEGIN:VEVENT
DTSTART;TZID=UTC:20260529T093000
DTEND;TZID=UTC:20260530T153000
DTSTAMP:20260421T103348
CREATED:20260405T234617Z
LAST-MODIFIED:20260405T234617Z
UID:42135-1780047000-1780155000@sharonchurchcolchester.com
SUMMARY:Vacation Bible School (VBS – 2026)
DESCRIPTION:Date: May 29 & 30\, 2026 \nTime : 9:30 AM – 3:30 PM \nLocation: Nayland Village Hall\, Colchester CO6 4JH \n 
URL:https://sharonchurchcolchester.com/event/vacation-bible-school-vbs-2026/
LOCATION:Church\, 350 5th Ave\, New York\, NY\, 10118\, United States
CATEGORIES:Mission Fair
ATTACH;FMTTYPE=image/jpeg:https://sharonchurchcolchester.com/wp-content/uploads/2026/04/WhatsApp-Image-2026-04-06-at-00.45.02.jpeg
END:VEVENT
END:VCALENDAR